BEGIN:VCALENDAR
VERSION:2.0
PRODID:-//PLÁSTICA ZIMBRÓN - ECPv6.15.20//NONSGML v1.0//EN
CALSCALE:GREGORIAN
METHOD:PUBLISH
X-ORIGINAL-URL:http://plasticazimbron.com
X-WR-CALDESC:Eventos para PLÁSTICA ZIMBRÓN
REFRESH-INTERVAL;VALUE=DURATION:PT1H
X-Robots-Tag:noindex
X-PUBLISHED-TTL:PT1H
BEGIN:VTIMEZONE
TZID:America/Chicago
BEGIN:DAYLIGHT
TZOFFSETFROM:-0600
TZOFFSETTO:-0500
TZNAME:CDT
DTSTART:20190310T080000
END:DAYLIGHT
BEGIN:STANDARD
TZOFFSETFROM:-0500
TZOFFSETTO:-0600
TZNAME:CST
DTSTART:20191103T070000
END:STANDARD
BEGIN:DAYLIGHT
TZOFFSETFROM:-0600
TZOFFSETTO:-0500
TZNAME:CDT
DTSTART:20200308T080000
END:DAYLIGHT
BEGIN:STANDARD
TZOFFSETFROM:-0500
TZOFFSETTO:-0600
TZNAME:CST
DTSTART:20201101T070000
END:STANDARD
BEGIN:DAYLIGHT
TZOFFSETFROM:-0600
TZOFFSETTO:-0500
TZNAME:CDT
DTSTART:20210314T080000
END:DAYLIGHT
BEGIN:STANDARD
TZOFFSETFROM:-0500
TZOFFSETTO:-0600
TZNAME:CST
DTSTART:20211107T070000
END:STANDARD
END:VTIMEZONE
BEGIN:VEVENT
DTSTART;TZID=America/Chicago:20201109T080000
DTEND;TZID=America/Chicago:20201118T170000
DTSTAMP:20260424T011047
CREATED:20210226T005731Z
LAST-MODIFIED:20210226T010640Z
UID:1189-1604908800-1605718800@plasticazimbron.com
SUMMARY:Curso - Taller de ESMALTES DE ALTA TEMPERATURA / CONOS 8 a 10 nivel 2-B
DESCRIPTION:Fundamento académico: Fortalecer a los ceramistas y alfareros en las concepciones teóricas y los ejercicios prácticos para la obtención de vidriados cerámicos al hierro y al titanio que maduran entre los conos 7 y 9.
URL:http://plasticazimbron.com/evento/curso-taller-de-esmaltes-de-alta-temperatura-conos-8-a-10-nivel-2-b/
LOCATION:Las Árboledas\, Saltillo Coah.
ATTACH;FMTTYPE=image/jpeg:http://plasticazimbron.com/wp-content/uploads/2019/12/talleresmaltes-ceramicos-conos-7-9-n2-p1.jpg
END:VEVENT
END:VCALENDAR