BEGIN:VCALENDAR
VERSION:2.0
PRODID:-//PLÁSTICA ZIMBRÓN - ECPv6.15.20//NONSGML v1.0//EN
CALSCALE:GREGORIAN
METHOD:PUBLISH
X-WR-CALNAME:PLÁSTICA ZIMBRÓN
X-ORIGINAL-URL:http://plasticazimbron.com
X-WR-CALDESC:Eventos para PLÁSTICA ZIMBRÓN
REFRESH-INTERVAL;VALUE=DURATION:PT1H
X-Robots-Tag:noindex
X-PUBLISHED-TTL:PT1H
BEGIN:VTIMEZONE
TZID:America/Chicago
BEGIN:DAYLIGHT
TZOFFSETFROM:-0600
TZOFFSETTO:-0500
TZNAME:CDT
DTSTART:20200308T080000
END:DAYLIGHT
BEGIN:STANDARD
TZOFFSETFROM:-0500
TZOFFSETTO:-0600
TZNAME:CST
DTSTART:20201101T070000
END:STANDARD
BEGIN:DAYLIGHT
TZOFFSETFROM:-0600
TZOFFSETTO:-0500
TZNAME:CDT
DTSTART:20210314T080000
END:DAYLIGHT
BEGIN:STANDARD
TZOFFSETFROM:-0500
TZOFFSETTO:-0600
TZNAME:CST
DTSTART:20211107T070000
END:STANDARD
BEGIN:DAYLIGHT
TZOFFSETFROM:-0600
TZOFFSETTO:-0500
TZNAME:CDT
DTSTART:20220313T080000
END:DAYLIGHT
BEGIN:STANDARD
TZOFFSETFROM:-0500
TZOFFSETTO:-0600
TZNAME:CST
DTSTART:20221106T070000
END:STANDARD
END:VTIMEZONE
BEGIN:VEVENT
DTSTART;TZID=America/Chicago:20210118T020000
DTEND;TZID=America/Chicago:20210129T110000
DTSTAMP:20260423T224411
CREATED:20210224T080350Z
LAST-MODIFIED:20210226T004201Z
UID:1164-1610935200-1611918000@plasticazimbron.com
SUMMARY:Seminario-Taller de Cuerpos Cerámicos para Alta Temperatura
DESCRIPTION:Para aquellos ceramistas y alfareros que deseen fortalecer las concepciones teóricas y llevar a cabo ejercicios prácticos para la obtención de cuerpos cerámicos especializados.
URL:http://plasticazimbron.com/evento/seminario-taller-de-cuerpos-ceramicos-para-alta-temperatura/
LOCATION:Taller 65\, Callejón de San Marcos 65 – Centro de Tlalpan\, Ciudad de México\, CDMX\, 1400\, México
ATTACH;FMTTYPE=image/jpeg:http://plasticazimbron.com/wp-content/uploads/2021/02/Curso-Esmaltes-2-65b.jpg
END:VEVENT
END:VCALENDAR