BEGIN:VCALENDAR
VERSION:2.0
PRODID:-//PLÁSTICA ZIMBRÓN - ECPv6.15.20//NONSGML v1.0//EN
CALSCALE:GREGORIAN
METHOD:PUBLISH
X-ORIGINAL-URL:http://plasticazimbron.com
X-WR-CALDESC:Eventos para PLÁSTICA ZIMBRÓN
REFRESH-INTERVAL;VALUE=DURATION:PT1H
X-Robots-Tag:noindex
X-PUBLISHED-TTL:PT1H
BEGIN:VTIMEZONE
TZID:America/Chicago
BEGIN:DAYLIGHT
TZOFFSETFROM:-0600
TZOFFSETTO:-0500
TZNAME:CDT
DTSTART:20210314T080000
END:DAYLIGHT
BEGIN:STANDARD
TZOFFSETFROM:-0500
TZOFFSETTO:-0600
TZNAME:CST
DTSTART:20211107T070000
END:STANDARD
BEGIN:DAYLIGHT
TZOFFSETFROM:-0600
TZOFFSETTO:-0500
TZNAME:CDT
DTSTART:20220313T080000
END:DAYLIGHT
BEGIN:STANDARD
TZOFFSETFROM:-0500
TZOFFSETTO:-0600
TZNAME:CST
DTSTART:20221106T070000
END:STANDARD
BEGIN:DAYLIGHT
TZOFFSETFROM:-0600
TZOFFSETTO:-0500
TZNAME:CDT
DTSTART:20230312T080000
END:DAYLIGHT
BEGIN:STANDARD
TZOFFSETFROM:-0500
TZOFFSETTO:-0600
TZNAME:CST
DTSTART:20231105T070000
END:STANDARD
END:VTIMEZONE
BEGIN:VEVENT
DTSTART;TZID=America/Chicago:20220301T100000
DTEND;TZID=America/Chicago:20220311T160000
DTSTAMP:20260423T020545
CREATED:20220111T005951Z
LAST-MODIFIED:20220111T010307Z
UID:2993-1646128800-1647014400@plasticazimbron.com
SUMMARY:Curso taller básico de esmaltes cerámicos de baja temperatura Conos 08 a 04
DESCRIPTION:Fundamento Académico: Iniciar y/o fortalecer a los ceramistas y alfareros en las concepciones teóricas y los ejercicios prácticos para la obtención de vidriados cerámicos de bajas temperaturas. \nJustificación: Este seminario – taller pretende poner de manifiesto las potencialidades y limitaciones que presentan las materias primas involucradas\, así como los problemas de compatibilidad entre sustrato y recubrimiento\, lo que permitirá\, por un lado\, obtener resultados originales y\, por el otro\, tener fundamentos suficientes para solucionar los problemas característicos que presenta este tipo de trabajo. \nInstructor: David Zimbrón Ortiz \nPrecio: $ 15\,800 + IVA \nPago por adelantado y s/comprobante 10% de descuento: $ 14\,220
URL:http://plasticazimbron.com/evento/curso-taller-basico-de-esmaltes-ceramicos-de-baja-temperatura-conos-08-a-04/
LOCATION:Taller 65\, Callejón de San Marcos 65 – Centro de Tlalpan\, Ciudad de México\, CDMX\, 1400\, México
ATTACH;FMTTYPE=image/jpeg:http://plasticazimbron.com/wp-content/uploads/2021/09/IMG_1114B.jpg
END:VEVENT
END:VCALENDAR