BEGIN:VCALENDAR
VERSION:2.0
PRODID:-//PLÁSTICA ZIMBRÓN - ECPv6.15.20//NONSGML v1.0//EN
CALSCALE:GREGORIAN
METHOD:PUBLISH
X-ORIGINAL-URL:http://plasticazimbron.com
X-WR-CALDESC:Eventos para PLÁSTICA ZIMBRÓN
REFRESH-INTERVAL;VALUE=DURATION:PT1H
X-Robots-Tag:noindex
X-PUBLISHED-TTL:PT1H
BEGIN:VTIMEZONE
TZID:America/Chicago
BEGIN:DAYLIGHT
TZOFFSETFROM:-0600
TZOFFSETTO:-0500
TZNAME:CDT
DTSTART:20210314T080000
END:DAYLIGHT
BEGIN:STANDARD
TZOFFSETFROM:-0500
TZOFFSETTO:-0600
TZNAME:CST
DTSTART:20211107T070000
END:STANDARD
BEGIN:DAYLIGHT
TZOFFSETFROM:-0600
TZOFFSETTO:-0500
TZNAME:CDT
DTSTART:20220313T080000
END:DAYLIGHT
BEGIN:STANDARD
TZOFFSETFROM:-0500
TZOFFSETTO:-0600
TZNAME:CST
DTSTART:20221106T070000
END:STANDARD
BEGIN:DAYLIGHT
TZOFFSETFROM:-0600
TZOFFSETTO:-0500
TZNAME:CDT
DTSTART:20230312T080000
END:DAYLIGHT
BEGIN:STANDARD
TZOFFSETFROM:-0500
TZOFFSETTO:-0600
TZNAME:CST
DTSTART:20231105T070000
END:STANDARD
END:VTIMEZONE
BEGIN:VEVENT
DTSTART;TZID=America/Chicago:20220718T100000
DTEND;TZID=America/Chicago:20220723T140000
DTSTAMP:20260422T213923
CREATED:20211226T141305Z
LAST-MODIFIED:20220529T154852Z
UID:2904-1658138400-1658584800@plasticazimbron.com
SUMMARY:Taller básico de esmaltes cerámicos de alta temperatura - Conos 6 a 7
DESCRIPTION:Fundamento Académico: Iniciar y/o fortalecer a los ceramistas y alfareros en las concepciones teóricas y los ejercicios prácticos para la obtención de vidriados cerámicos que maduran entre los conos 6 y 7. \nJustificación: Este seminario – taller pretende poner de manifiesto las potencialidades y limitaciones que presentan las materias primas involucradas\, así como los problemas de compatibilidad entre sustrato y recubrimiento\, lo que permitirá\, por un lado\, obtener resultados originales y\, por el otro\, tener fundamentos suficientes para solucionar los problemas característicos que presenta este tipo de trabajo. \n\n\nPrecio: $ 9\,400 + IVA \nPago por adelantado y s/comprobante 10% de descuento: $ 8\,460
URL:http://plasticazimbron.com/evento/taller-basico-de-esmaltes-ceramicos-de-alta-temperatura-conos-6-a-7/
LOCATION:Taller 65\, Callejón de San Marcos 65 – Centro de Tlalpan\, Ciudad de México\, CDMX\, 1400\, México
ATTACH;FMTTYPE=image/jpeg:http://plasticazimbron.com/wp-content/uploads/2021/12/talleresmaltes-ceramicos-conos-6-7-1500x1125-1.jpg
END:VEVENT
BEGIN:VEVENT
DTSTART;TZID=America/Chicago:20220718T160000
DTEND;TZID=America/Chicago:20220723T200000
DTSTAMP:20260422T213923
CREATED:20210719T230407Z
LAST-MODIFIED:20220529T155610Z
UID:2247-1658160000-1658606400@plasticazimbron.com
SUMMARY:Curso Taller de elaboración manual de tetera oriental contemporánea
DESCRIPTION:Fundamento Académico: Acercar a los ceramistas y alfareros hacia la historia\, caracterización y diseño de la tetera tipo oriental\, con diseño personalizado. \nJustificación: Dentro del campo de la producción de cerámica de carácter utilitario\, existe el terreno especializado en la fabricación de tetera. Cada país cuenta con una metodología distinta para la preparación del té. Este curso se imparte con la finalidad de esclarecer cuáles son las propiedades típicas de una tetera de tipo chino y su funcionalidad dentro del ámbito de la diplomacia. \nPrecio: $ 9\,400 + IVA \nSi no se requiere factura y el pago se hace por anticipado\, se ofrece el 10 % de descuento: $ 8\,460
URL:http://plasticazimbron.com/evento/curso-taller-de-elaboracion-de-tetera-oriental-contemporanea/
LOCATION:Taller 65\, Callejón de San Marcos 65 – Centro de Tlalpan\, Ciudad de México\, CDMX\, 1400\, México
ATTACH;FMTTYPE=image/jpeg:http://plasticazimbron.com/wp-content/uploads/2021/07/C.-Yixing-52.jpg
END:VEVENT
END:VCALENDAR