BEGIN:VCALENDAR
VERSION:2.0
PRODID:-//PLÁSTICA ZIMBRÓN - ECPv6.15.20//NONSGML v1.0//EN
CALSCALE:GREGORIAN
METHOD:PUBLISH
X-WR-CALNAME:PLÁSTICA ZIMBRÓN
X-ORIGINAL-URL:http://plasticazimbron.com
X-WR-CALDESC:Eventos para PLÁSTICA ZIMBRÓN
REFRESH-INTERVAL;VALUE=DURATION:PT1H
X-Robots-Tag:noindex
X-PUBLISHED-TTL:PT1H
BEGIN:VTIMEZONE
TZID:America/Chicago
BEGIN:DAYLIGHT
TZOFFSETFROM:-0600
TZOFFSETTO:-0500
TZNAME:CDT
DTSTART:20220313T080000
END:DAYLIGHT
BEGIN:STANDARD
TZOFFSETFROM:-0500
TZOFFSETTO:-0600
TZNAME:CST
DTSTART:20221106T070000
END:STANDARD
BEGIN:DAYLIGHT
TZOFFSETFROM:-0600
TZOFFSETTO:-0500
TZNAME:CDT
DTSTART:20230312T080000
END:DAYLIGHT
BEGIN:STANDARD
TZOFFSETFROM:-0500
TZOFFSETTO:-0600
TZNAME:CST
DTSTART:20231105T070000
END:STANDARD
BEGIN:DAYLIGHT
TZOFFSETFROM:-0600
TZOFFSETTO:-0500
TZNAME:CDT
DTSTART:20240310T080000
END:DAYLIGHT
BEGIN:STANDARD
TZOFFSETFROM:-0500
TZOFFSETTO:-0600
TZNAME:CST
DTSTART:20241103T070000
END:STANDARD
END:VTIMEZONE
BEGIN:VEVENT
DTSTART;TZID=America/Chicago:20230320T100000
DTEND;TZID=America/Chicago:20230327T160000
DTSTAMP:20260422T105554
CREATED:20230110T141728Z
LAST-MODIFIED:20230110T142138Z
UID:3294-1679306400-1679932800@plasticazimbron.com
SUMMARY:Curso taller – Precisiones técnicas y calibrado de las barbotinas para vaciado o colada
DESCRIPTION:Fundamento Académico: Fortalecer a los ceramistas\, alfareros y trabajadores en las concepciones teóricas y los ejercicios prácticos para la obtención de barbotinas para vaciado o colada ajustadas y calibradas. Dar a conocer el extremo cuidado que requieren los preparados para esta técnica. \nJustificación: Durante los procesos de elaboración de cerámica es indispensable que los participantes se familiaricen con los preceptos que rigen la utilización de los soles arcillosos que serán utilizados como pastas para el vaciado. Este seminario – taller pretende poner de manifiesto las potencialidades y limitaciones que presentan las materias primas involucradas\, así como los problemas de compatibilidad entre pieza y molde\, lo que permitirá\, por un lado\, obtener resultados ágiless y\, por el otro\, tener fundamentos suficientes para solucionar los problemas característicos que presenta este tipo de trabajo. \nPrecio: $ 10\,260 + IVA
URL:http://plasticazimbron.com/evento/curso-taller-precisiones-tecnicas-y-calibrado-de-las-barbotinas-para-vaciado-o-colada/
LOCATION:Taller El Camaleón\, Calle Mier y Pesado No. 328 - Col. Del Valle\, Ciudad de México\, CDMX\, 03103\, México
ATTACH;FMTTYPE=image/jpeg:http://plasticazimbron.com/wp-content/uploads/2023/01/Temp_de_Imagenes-Vaciado.jpg
END:VEVENT
END:VCALENDAR