BEGIN:VCALENDAR
VERSION:2.0
PRODID:-//PLÁSTICA ZIMBRÓN - ECPv6.15.20//NONSGML v1.0//EN
CALSCALE:GREGORIAN
METHOD:PUBLISH
X-ORIGINAL-URL:http://plasticazimbron.com
X-WR-CALDESC:Eventos para PLÁSTICA ZIMBRÓN
REFRESH-INTERVAL;VALUE=DURATION:PT1H
X-Robots-Tag:noindex
X-PUBLISHED-TTL:PT1H
BEGIN:VTIMEZONE
TZID:America/Chicago
BEGIN:DAYLIGHT
TZOFFSETFROM:-0600
TZOFFSETTO:-0500
TZNAME:CDT
DTSTART:20220313T080000
END:DAYLIGHT
BEGIN:STANDARD
TZOFFSETFROM:-0500
TZOFFSETTO:-0600
TZNAME:CST
DTSTART:20221106T070000
END:STANDARD
BEGIN:DAYLIGHT
TZOFFSETFROM:-0600
TZOFFSETTO:-0500
TZNAME:CDT
DTSTART:20230312T080000
END:DAYLIGHT
BEGIN:STANDARD
TZOFFSETFROM:-0500
TZOFFSETTO:-0600
TZNAME:CST
DTSTART:20231105T070000
END:STANDARD
BEGIN:DAYLIGHT
TZOFFSETFROM:-0600
TZOFFSETTO:-0500
TZNAME:CDT
DTSTART:20240310T080000
END:DAYLIGHT
BEGIN:STANDARD
TZOFFSETFROM:-0500
TZOFFSETTO:-0600
TZNAME:CST
DTSTART:20241103T070000
END:STANDARD
END:VTIMEZONE
BEGIN:VEVENT
DTSTART;TZID=America/Chicago:20230501T110000
DTEND;TZID=America/Chicago:20230509T160000
DTSTAMP:20260422T075645
CREATED:20221022T151152Z
LAST-MODIFIED:20230128T190231Z
UID:3210-1682938800-1683648000@plasticazimbron.com
SUMMARY:Curso-Taller básico de esmaltes cerámicos de alta temperatura / CONOS 6 a 7
DESCRIPTION:Fundamento Académico: Iniciar y/o fortalecer a los ceramistas y alfareros en las concepciones teóricas y los ejercicios prácticos para la obtención de vidriados cerámicos que maduran entre los conos 6 y 7. \nJustificación: Este seminario – taller pretende poner de manifiesto las potencialidades y limitaciones que presentan las materias primas involucradas\, así como los problemas de compatibilidad entre sustrato y recubrimiento\, lo que permitirá\, por un lado\, obtener resultados originales y\, por el otro\, tener fundamentos suficientes para solucionar los problemas característicos que presenta este tipo de trabajo. \n\n\nPrecio: $ 15\,000 + IVA
URL:http://plasticazimbron.com/evento/curso-taller-basico-de-esmaltes-ceramicos-de-alta-temperatura-conos-6-a-7/
LOCATION:Taller Contorno\, Av Chapultepec 180\, Roma Nte.\, Ciudad de México\, CDMX\, 06700\, México
ATTACH;FMTTYPE=image/jpeg:http://plasticazimbron.com/wp-content/uploads/2021/12/talleresmaltes-ceramicos-conos-6-7-1500x1125-1.jpg
END:VEVENT
END:VCALENDAR