BEGIN:VCALENDAR
VERSION:2.0
PRODID:-//PLÁSTICA ZIMBRÓN - ECPv6.15.20//NONSGML v1.0//EN
CALSCALE:GREGORIAN
METHOD:PUBLISH
X-ORIGINAL-URL:http://plasticazimbron.com
X-WR-CALDESC:Eventos para PLÁSTICA ZIMBRÓN
REFRESH-INTERVAL;VALUE=DURATION:PT1H
X-Robots-Tag:noindex
X-PUBLISHED-TTL:PT1H
BEGIN:VTIMEZONE
TZID:America/Chicago
BEGIN:DAYLIGHT
TZOFFSETFROM:-0600
TZOFFSETTO:-0500
TZNAME:CDT
DTSTART:20220313T080000
END:DAYLIGHT
BEGIN:STANDARD
TZOFFSETFROM:-0500
TZOFFSETTO:-0600
TZNAME:CST
DTSTART:20221106T070000
END:STANDARD
BEGIN:DAYLIGHT
TZOFFSETFROM:-0600
TZOFFSETTO:-0500
TZNAME:CDT
DTSTART:20230312T080000
END:DAYLIGHT
BEGIN:STANDARD
TZOFFSETFROM:-0500
TZOFFSETTO:-0600
TZNAME:CST
DTSTART:20231105T070000
END:STANDARD
BEGIN:DAYLIGHT
TZOFFSETFROM:-0600
TZOFFSETTO:-0500
TZNAME:CDT
DTSTART:20240310T080000
END:DAYLIGHT
BEGIN:STANDARD
TZOFFSETFROM:-0500
TZOFFSETTO:-0600
TZNAME:CST
DTSTART:20241103T070000
END:STANDARD
END:VTIMEZONE
BEGIN:VEVENT
DTSTART;TZID=America/Chicago:20230604T100000
DTEND;TZID=America/Chicago:20230611T160000
DTSTAMP:20260422T062806
CREATED:20230420T022801Z
LAST-MODIFIED:20230420T024653Z
UID:4376-1685872800-1686499200@plasticazimbron.com
SUMMARY:Curso elemental para esmaltes cerámicos y de efectos especiales
DESCRIPTION:Taller para ceramistas interesados en la elaboración de recubrimientos vítreos Conos 6 y 7 para crear efectos como el satinado\, el mate\, el craquel intencional\, la retracción e incluso la resolidificación en cristales visibles.
URL:http://plasticazimbron.com/evento/curso-elemental-para-esmaltes-ceramicos-y-de-efectos-especiales/
LOCATION:Taller El Buen Mix\, Allende Norte 69 Col. Centro\, Querétaro\, Querétaro\, México
ATTACH;FMTTYPE=image/jpeg:http://plasticazimbron.com/wp-content/uploads/2023/04/TALLER-ESMALTES-DAVID-ZIMBRON_1.jpg
END:VEVENT
END:VCALENDAR